BEGIN:VCALENDAR
VERSION:2.0
PRODID:-//jEvents 2.0 for Joomla//EN
CALSCALE:GREGORIAN
METHOD:PUBLISH
BEGIN:VEVENT
UID:f175752b5358f8faa0a26c914dd5aac1
CATEGORIES:Veranstaltungen
CREATED:20241021T151841
SUMMARY:Planspiel Wirtschaft, Klassen 1wa und 1wb
DESCRIPTION:
DTSTAMP:20260425T120935
DTSTART:20250108T073000
DTEND:20250108T123000
SEQUENCE:0
TRANSP:OPAQUE
END:VEVENT
END:VCALENDAR