BEGIN:VCALENDAR
VERSION:2.0
PRODID:-//jEvents 2.0 for Joomla//EN
CALSCALE:GREGORIAN
METHOD:PUBLISH
BEGIN:VEVENT
UID:6b1854ebf47d1f5907791162dd5d37fd
CATEGORIES:Veranstaltungen
CREATED:20241021T151754
SUMMARY:Workshop "Schau auf`s Geld", Klasse 1a
DESCRIPTION:
DTSTAMP:20260425T171128
DTSTART:20250610T080000
DTEND:20250610T112000
SEQUENCE:0
TRANSP:OPAQUE
END:VEVENT
END:VCALENDAR