BEGIN:VCALENDAR
VERSION:2.0
PRODID:-//jEvents 2.0 for Joomla//EN
CALSCALE:GREGORIAN
METHOD:PUBLISH
BEGIN:VEVENT
UID:d8a760dcc03394217531d0d8cc12e1b8
CATEGORIES:Veranstaltungen
CREATED:20241021T151624
SUMMARY:Planspiel Wirtschaft Klasse 1a
DESCRIPTION:
DTSTAMP:20260425T121104
DTSTART:20250107T073000
DTEND:20250107T123000
SEQUENCE:0
TRANSP:OPAQUE
END:VEVENT
END:VCALENDAR