BEGIN:VCALENDAR
VERSION:2.0
PRODID:-//jEvents 2.0 for Joomla//EN
CALSCALE:GREGORIAN
METHOD:PUBLISH
BEGIN:VEVENT
UID:dde65059abd34576cdbb8977ad95328b
CATEGORIES:Veranstaltungen
CREATED:20241021T151052
SUMMARY:Vernetzungstreffen HTL-Lehrer:Innen im Metallwerk Plansee
DESCRIPTION:
DTSTAMP:20260425T185309
DTSTART:20241025T080000
DTEND:20241025T093000
SEQUENCE:0
TRANSP:OPAQUE
END:VEVENT
END:VCALENDAR