BEGIN:VCALENDAR
VERSION:2.0
PRODID:-//jEvents 2.0 for Joomla//EN
CALSCALE:GREGORIAN
METHOD:PUBLISH
BEGIN:VEVENT
UID:0e2053a6effd6f3dede1005d11227548
CATEGORIES:Veranstaltungen
CREATED:20241021T150947
SUMMARY:Besprechung PD-Lehrer:Innen
DESCRIPTION:
DTSTAMP:20260425T204008
DTSTART:20241023T140000
DTEND:20241023T160000
SEQUENCE:0
TRANSP:OPAQUE
END:VEVENT
END:VCALENDAR