BEGIN:VCALENDAR
VERSION:2.0
PRODID:-//jEvents 2.0 for Joomla//EN
CALSCALE:GREGORIAN
METHOD:PUBLISH
BEGIN:VEVENT
UID:d450490909d23685b99256512d785b7d
CATEGORIES:Veranstaltungen
CREATED:20241021T150704
SUMMARY:SGA-Sitzung HTL
DESCRIPTION:
DTSTAMP:20260425T171622
DTSTART:20241125T150000
DTEND:20241125T160000
SEQUENCE:0
TRANSP:OPAQUE
END:VEVENT
END:VCALENDAR