BEGIN:VCALENDAR
VERSION:2.0
PRODID:-//jEvents 2.0 for Joomla//EN
CALSCALE:GREGORIAN
METHOD:PUBLISH
BEGIN:VEVENT
UID:4ae7c53fd44d490e623ae470d5eb2c18
CATEGORIES:Veranstaltungen
CREATED:20241021T150641
SUMMARY:SGA-Sitzung BHAK
DESCRIPTION:
DTSTAMP:20260425T171316
DTSTART:20241125T130000
DTEND:20241125T140000
SEQUENCE:0
TRANSP:OPAQUE
END:VEVENT
END:VCALENDAR