BEGIN:VCALENDAR
VERSION:2.0
PRODID:-//jEvents 2.0 for Joomla//EN
CALSCALE:GREGORIAN
METHOD:PUBLISH
BEGIN:VEVENT
UID:7ca1bb11699516b28693c2c93700d3e5
CATEGORIES:Veranstaltungen
CREATED:20241021T150557
SUMMARY:SGA-Sitzung HLW
DESCRIPTION:
DTSTAMP:20260425T171620
DTSTART:20241126T130000
DTEND:20241126T140000
SEQUENCE:0
TRANSP:OPAQUE
END:VEVENT
END:VCALENDAR