BEGIN:VCALENDAR
VERSION:2.0
PRODID:-//jEvents 2.0 for Joomla//EN
CALSCALE:GREGORIAN
METHOD:PUBLISH
BEGIN:VEVENT
UID:5402052b297029ab04e947e030c5d3a1
CATEGORIES:Veranstaltungen
CREATED:20241021T150045
SUMMARY:Theateraufführung "Märzengrund" VZ Breitenwang, 3., 4. und 5. Klassen
DESCRIPTION:
DTSTAMP:20260425T171320
DTSTART:20241106T093000
DTEND:20241106T123000
SEQUENCE:0
TRANSP:OPAQUE
END:VEVENT
END:VCALENDAR