BEGIN:VCALENDAR
VERSION:2.0
PRODID:-//jEvents 2.0 for Joomla//EN
CALSCALE:GREGORIAN
METHOD:PUBLISH
BEGIN:VEVENT
UID:33e6707f68ae7793ecce7ed1586b509e
CATEGORIES:Veranstaltungen
CREATED:20241021T145942
SUMMARY:SCHILF Tandemprüfungen
DESCRIPTION:
DTSTAMP:20260425T171525
DTSTART:20241106T095500
DTEND:20241106T150500
SEQUENCE:0
TRANSP:OPAQUE
END:VEVENT
END:VCALENDAR