BEGIN:VCALENDAR
VERSION:2.0
PRODID:-//jEvents 2.0 for Joomla//EN
CALSCALE:GREGORIAN
METHOD:PUBLISH
BEGIN:VEVENT
UID:4a979d92eaf8dbfc7201f32a7455b335
CATEGORIES:Veranstaltungen
CREATED:20241021T145901
SUMMARY:1.pädagogische Konferenz
DESCRIPTION:
DTSTAMP:20260425T171620
DTSTART:20241106T150000
DTEND:20241106T170000
SEQUENCE:0
TRANSP:OPAQUE
END:VEVENT
END:VCALENDAR