BEGIN:VCALENDAR
VERSION:2.0
PRODID:-//jEvents 2.0 for Joomla//EN
CALSCALE:GREGORIAN
METHOD:PUBLISH
BEGIN:VEVENT
UID:e2246e88cedca619808450c7d12f05a4
CATEGORIES:Veranstaltungen
CREATED:20241010T135021
SUMMARY:Veröffentlichung Themenpools
DESCRIPTION:
DTSTAMP:20260425T171502
DTSTART:20241129T070000
DTEND:20241129T160000
SEQUENCE:0
TRANSP:OPAQUE
END:VEVENT
END:VCALENDAR