BEGIN:VCALENDAR
VERSION:2.0
PRODID:-//jEvents 2.0 for Joomla//EN
CALSCALE:GREGORIAN
METHOD:PUBLISH
BEGIN:VEVENT
UID:e1a11e30e7bdd5590eddad5b1f40cc60
CATEGORIES:Veranstaltungen
CREATED:20241010T111901
SUMMARY:KIWI-Veranstaltung - "Kinder entdecken Wirtschaft" in der Wirtschaftskammer Reutte
DESCRIPTION:
DTSTAMP:20260425T185318
DTSTART:20241024T060000
DTEND:20241024T101500
SEQUENCE:0
TRANSP:OPAQUE
END:VEVENT
END:VCALENDAR