BEGIN:VCALENDAR
VERSION:2.0
PRODID:-//jEvents 2.0 for Joomla//EN
CALSCALE:GREGORIAN
METHOD:PUBLISH
BEGIN:VEVENT
UID:bf8ef9e64f6a5266f142d1d5ee5d9aa6
CATEGORIES:Veranstaltungen
CREATED:20241008T111338
SUMMARY:Elternsprechtag 1.Semester
DESCRIPTION:
DTSTAMP:20260425T171320
DTSTART:20241128T153000
DTEND:20241128T183000
SEQUENCE:0
TRANSP:OPAQUE
END:VEVENT
END:VCALENDAR