BEGIN:VCALENDAR
VERSION:2.0
PRODID:-//jEvents 2.0 for Joomla//EN
CALSCALE:GREGORIAN
METHOD:PUBLISH
BEGIN:VEVENT
UID:04d102b9a43e494fefcadde3a8aa7194
CATEGORIES:Veranstaltungen
CREATED:20241002T152642
SUMMARY:Tag  der Universitäten
DESCRIPTION:
DTSTAMP:20260425T171316
DTSTART:20241122T075500
DTEND:20241122T094000
SEQUENCE:0
TRANSP:OPAQUE
END:VEVENT
END:VCALENDAR