BEGIN:VCALENDAR
VERSION:2.0
PRODID:-//jEvents 2.0 for Joomla//EN
CALSCALE:GREGORIAN
METHOD:PUBLISH
BEGIN:VEVENT
UID:3610a12eacfb5039085278dc7721f8b8
CATEGORIES:Veranstaltungen
CREATED:20241002T152207
SUMMARY:Elternvertreterwahlen für Schulgemeinschaftsausschuss
DESCRIPTION:
DTSTAMP:20260425T171245
DTSTART:20241106T070000
DTEND:20241106T110000
SEQUENCE:0
TRANSP:OPAQUE
END:VEVENT
END:VCALENDAR