BEGIN:VCALENDAR
VERSION:2.0
PRODID:-//jEvents 2.0 for Joomla//EN
CALSCALE:GREGORIAN
METHOD:PUBLISH
BEGIN:VEVENT
UID:456435cbd075f766c15f7df809815697
CATEGORIES:Veranstaltungen
CREATED:20241002T152058
SUMMARY:Elternabend 1.HTL
DESCRIPTION:
DTSTAMP:20260425T185637
DTSTART:20241014T163000
DTEND:20241014T180000
SEQUENCE:0
TRANSP:OPAQUE
END:VEVENT
END:VCALENDAR