BEGIN:VCALENDAR
VERSION:2.0
PRODID:-//jEvents 2.0 for Joomla//EN
CALSCALE:GREGORIAN
METHOD:PUBLISH
BEGIN:VEVENT
UID:00e9bf8da02a156ebd1ee3f8d8b6ccbd
CATEGORIES:Veranstaltungen
CREATED:20241002T151941
SUMMARY:Elternabend 1.Klassen HLW
DESCRIPTION:
DTSTAMP:20260425T190756
DTSTART:20241008T163000
DTEND:20241008T180000
SEQUENCE:0
TRANSP:OPAQUE
END:VEVENT
END:VCALENDAR