BEGIN:VCALENDAR
VERSION:2.0
PRODID:-//jEvents 2.0 for Joomla//EN
CALSCALE:GREGORIAN
METHOD:PUBLISH
BEGIN:VEVENT
UID:b8ab37f8786f3b14b1c109c3955f922e
CATEGORIES:Veranstaltungen
CREATED:20241002T151852
SUMMARY:Elternabend 1.HAK
DESCRIPTION:
DTSTAMP:20260425T185643
DTSTART:20241007T163000
DTEND:20241007T180000
SEQUENCE:0
TRANSP:OPAQUE
END:VEVENT
END:VCALENDAR