BEGIN:VCALENDAR
VERSION:2.0
PRODID:-//jEvents 2.0 for Joomla//EN
CALSCALE:GREGORIAN
METHOD:PUBLISH
BEGIN:VEVENT
UID:3b19ed61826dcab1f73b38947ee831ba
CATEGORIES:Veranstaltungen
CREATED:20240926T153652
SUMMARY:Schulsprecherwahlen
DESCRIPTION:
DTSTAMP:20260425T185311
DTSTART:20241007T060000
DTEND:20241007T100000
SEQUENCE:0
TRANSP:OPAQUE
END:VEVENT
END:VCALENDAR