BEGIN:VCALENDAR
VERSION:2.0
PRODID:-//jEvents 2.0 for Joomla//EN
CALSCALE:GREGORIAN
METHOD:PUBLISH
BEGIN:VEVENT
UID:d2a8657cda15eb373e9730b7a3a787cc
CATEGORIES:Veranstaltungen
CREATED:20240926T105842
SUMMARY:Praktikumsinformation - online
DESCRIPTION:
DTSTAMP:20260425T185602
DTSTART:20241014T133000
DTEND:20241014T150000
SEQUENCE:0
TRANSP:OPAQUE
END:VEVENT
END:VCALENDAR