BEGIN:VCALENDAR
VERSION:2.0
PRODID:-//jEvents 2.0 for Joomla//EN
CALSCALE:GREGORIAN
METHOD:PUBLISH
BEGIN:VEVENT
UID:9e6ce656774bd8151ec3dfaa83c609db
CATEGORIES:Veranstaltungen
CREATED:20240919T150951
SUMMARY:Schüleraustausch Reutte in Frankreich und Cles
DESCRIPTION:
DTSTAMP:20260425T153719
DTSTART:20250503T040000
DTEND:20250509T180000
SEQUENCE:0
TRANSP:OPAQUE
END:VEVENT
END:VCALENDAR