BEGIN:VCALENDAR
VERSION:2.0
PRODID:-//jEvents 2.0 for Joomla//EN
CALSCALE:GREGORIAN
METHOD:PUBLISH
BEGIN:VEVENT
UID:63fc39ec4039603db2a04a0d803580fd
CATEGORIES:Veranstaltungen
CREATED:20240919T150839
SUMMARY:Cocktailseminar 3wa und 3wb
DESCRIPTION:
DTSTAMP:20260425T154247
DTSTART:20250410T113000
DTEND:20250410T150000
SEQUENCE:0
TRANSP:OPAQUE
END:VEVENT
END:VCALENDAR