BEGIN:VCALENDAR
VERSION:2.0
PRODID:-//jEvents 2.0 for Joomla//EN
CALSCALE:GREGORIAN
METHOD:PUBLISH
BEGIN:VEVENT
UID:129776b5bcdcb7de8331727021725b06
CATEGORIES:Veranstaltungen
CREATED:20240919T105706
SUMMARY:Unsinniger Donnerstag
DESCRIPTION:
DTSTAMP:20260425T171127
DTSTART:20250227T130000
DTEND:20250227T160000
SEQUENCE:0
TRANSP:OPAQUE
END:VEVENT
END:VCALENDAR