BEGIN:VCALENDAR
VERSION:2.0
PRODID:-//jEvents 2.0 for Joomla//EN
CALSCALE:GREGORIAN
METHOD:PUBLISH
BEGIN:VEVENT
UID:94c78330ee0d5d855315bf39301e9956
CATEGORIES:Veranstaltungen
CREATED:20240919T105519
SUMMARY:Karrieretag in der HLW
DESCRIPTION:
DTSTAMP:20260425T171502
DTSTART:20250205T090000
DTEND:20250205T140000
SEQUENCE:0
TRANSP:OPAQUE
END:VEVENT
END:VCALENDAR