BEGIN:VCALENDAR
VERSION:2.0
PRODID:-//jEvents 2.0 for Joomla//EN
CALSCALE:GREGORIAN
METHOD:PUBLISH
BEGIN:VEVENT
UID:ba049c18de936be6719e6a6b17da271a
CATEGORIES:Veranstaltungen
CREATED:20240919T105410
SUMMARY:Schüleraustausch Frankreich und Cles in Reutte
DESCRIPTION:
DTSTAMP:20260425T152835
DTSTART:20250125T070000
DTEND:20250131T160000
SEQUENCE:0
TRANSP:OPAQUE
END:VEVENT
END:VCALENDAR