BEGIN:VCALENDAR
VERSION:2.0
PRODID:-//jEvents 2.0 for Joomla//EN
CALSCALE:GREGORIAN
METHOD:PUBLISH
BEGIN:VEVENT
UID:af35ffafb179412c30dcdbc62f3deba4
CATEGORIES:Veranstaltungen
CREATED:20240919T102855
SUMMARY:2.Nebentermin Reife- und Diplomprüfungen 2023/24 - mündliche Prüfungen
DESCRIPTION:
DTSTAMP:20260425T171334
DTSTART:20250219T070000
DTEND:20250219T160000
SEQUENCE:0
TRANSP:OPAQUE
END:VEVENT
END:VCALENDAR