BEGIN:VCALENDAR
VERSION:2.0
PRODID:-//jEvents 2.0 for Joomla//EN
CALSCALE:GREGORIAN
METHOD:PUBLISH
BEGIN:VEVENT
UID:ca60672bbf0de85923beb4ee97da5d81
CATEGORIES:Veranstaltungen
CREATED:20240919T102444
SUMMARY:2.Nebentermin Reife- und Diplomprüfungen 2023/24 Präsentationen Diplomarbeiten
DESCRIPTION:
DTSTAMP:20260425T121110
DTSTART:20250122T070000
DTEND:20250122T160000
SEQUENCE:0
TRANSP:OPAQUE
END:VEVENT
END:VCALENDAR