BEGIN:VCALENDAR
VERSION:2.0
PRODID:-//jEvents 2.0 for Joomla//EN
CALSCALE:GREGORIAN
METHOD:PUBLISH
BEGIN:VEVENT
UID:d5c7845ecda19e28724e1d6d04eff171
CATEGORIES:Veranstaltungen
CREATED:20240919T101743
SUMMARY:Allerseelen 
DESCRIPTION:
DTSTAMP:20260425T171812
DTSTART:20241102T070000
DTEND:20241102T220000
SEQUENCE:0
TRANSP:OPAQUE
END:VEVENT
END:VCALENDAR