BEGIN:VCALENDAR
VERSION:2.0
PRODID:-//jEvents 2.0 for Joomla//EN
CALSCALE:GREGORIAN
METHOD:PUBLISH
BEGIN:VEVENT
UID:7745973457dfc54cfddfd4285833d7c4
CATEGORIES:Veranstaltungen
CREATED:20240919T101653
SUMMARY:Allerheiligen - schulfrei
DESCRIPTION:
DTSTAMP:20260425T171333
DTSTART:20241101T070000
DTEND:20241101T220000
SEQUENCE:0
TRANSP:OPAQUE
END:VEVENT
END:VCALENDAR