BEGIN:VCALENDAR
VERSION:2.0
PRODID:-//jEvents 2.0 for Joomla//EN
CALSCALE:GREGORIAN
METHOD:PUBLISH
BEGIN:VEVENT
UID:42be9b454ecbd5f140dbc92b4a83466b
CATEGORIES:Veranstaltungen
CREATED:20240919T101447
SUMMARY:Herbstferien
DESCRIPTION:
DTSTAMP:20260425T185641
DTSTART:20241026T060000
DTEND:20241031T220000
SEQUENCE:0
TRANSP:OPAQUE
END:VEVENT
END:VCALENDAR