BEGIN:VCALENDAR
VERSION:2.0
PRODID:-//jEvents 2.0 for Joomla//EN
CALSCALE:GREGORIAN
METHOD:PUBLISH
BEGIN:VEVENT
UID:0b1e1fe6189bac3d90e095ba96c18d9c
CATEGORIES:Veranstaltungen
CREATED:20240919T100639
SUMMARY:Weihnachtsferien
DESCRIPTION:
DTSTAMP:20260425T120752
DTSTART:20241223T070000
DTEND:20250106T220000
SEQUENCE:0
TRANSP:OPAQUE
END:VEVENT
END:VCALENDAR