BEGIN:VCALENDAR
VERSION:2.0
PRODID:-//jEvents 2.0 for Joomla//EN
CALSCALE:GREGORIAN
METHOD:PUBLISH
BEGIN:VEVENT
UID:4d6cb09253e41f1058d0a405a4b2abf8
CATEGORIES:Veranstaltungen
CREATED:20240919T100435
SUMMARY:Beginn des Schuljahres 2025/26
DESCRIPTION:
DTSTAMP:20260425T203945
DTSTART:20250908T060000
DTEND:20250908T100000
SEQUENCE:0
TRANSP:OPAQUE
END:VEVENT
END:VCALENDAR