BEGIN:VCALENDAR
VERSION:2.0
PRODID:-//jEvents 2.0 for Joomla//EN
CALSCALE:GREGORIAN
METHOD:PUBLISH
BEGIN:VEVENT
UID:90a19011cf272d29301db78032dd9f61
CATEGORIES:Veranstaltungen
CREATED:20240919T100252
SUMMARY:Verteilung der Zeugnisse - Beginn der Sommerferien
DESCRIPTION:
DTSTAMP:20260425T185514
DTSTART:20250704T060000
DTEND:20250704T100000
SEQUENCE:0
TRANSP:OPAQUE
END:VEVENT
END:VCALENDAR