BEGIN:VCALENDAR
VERSION:2.0
PRODID:-//jEvents 2.0 for Joomla//EN
CALSCALE:GREGORIAN
METHOD:PUBLISH
BEGIN:VEVENT
UID:536bb7d73549421c55b046332dd8ce3b
CATEGORIES:Veranstaltungen
CREATED:20240919T100140
SUMMARY:schulautonom frei
DESCRIPTION:
DTSTAMP:20260425T171615
DTSTART:20250620T060000
DTEND:20250620T210000
SEQUENCE:0
TRANSP:OPAQUE
END:VEVENT
END:VCALENDAR