BEGIN:VCALENDAR
VERSION:2.0
PRODID:-//jEvents 2.0 for Joomla//EN
CALSCALE:GREGORIAN
METHOD:PUBLISH
BEGIN:VEVENT
UID:be30347a99b537f6b32ce861d9856b39
CATEGORIES:Veranstaltungen
CREATED:20240919T100112
SUMMARY:Fronleichnam - schulfrei
DESCRIPTION:
DTSTAMP:20260425T171125
DTSTART:20250619T060000
DTEND:20250619T210000
SEQUENCE:0
TRANSP:OPAQUE
END:VEVENT
END:VCALENDAR