BEGIN:VCALENDAR
VERSION:2.0
PRODID:-//jEvents 2.0 for Joomla//EN
CALSCALE:GREGORIAN
METHOD:PUBLISH
BEGIN:VEVENT
UID:845af7b359ab7fd7f44d9b215b344d8b
CATEGORIES:Veranstaltungen
CREATED:20240919T100017
SUMMARY:schulautonom frei
DESCRIPTION:
DTSTAMP:20260425T152632
DTSTART:20250530T060000
DTEND:20250530T210000
SEQUENCE:0
TRANSP:OPAQUE
END:VEVENT
END:VCALENDAR