BEGIN:VCALENDAR
VERSION:2.0
PRODID:-//jEvents 2.0 for Joomla//EN
CALSCALE:GREGORIAN
METHOD:PUBLISH
BEGIN:VEVENT
UID:318195c6e0139bd3a6cab0a9f6ed34ba
CATEGORIES:Veranstaltungen
CREATED:20240919T095949
SUMMARY:Christi Himmelfahrt - schulfrei
DESCRIPTION:
DTSTAMP:20260425T152749
DTSTART:20250529T060000
DTEND:20250529T210000
SEQUENCE:0
TRANSP:OPAQUE
END:VEVENT
END:VCALENDAR