BEGIN:VCALENDAR
VERSION:2.0
PRODID:-//jEvents 2.0 for Joomla//EN
CALSCALE:GREGORIAN
METHOD:PUBLISH
BEGIN:VEVENT
UID:c75c63b35bf3900162fc29c3933ad140
CATEGORIES:Veranstaltungen
CREATED:20240919T095704
SUMMARY:Staatsfeiertrag
DESCRIPTION:
DTSTAMP:20260425T152833
DTSTART:20250501T060000
DTEND:20250501T210000
SEQUENCE:0
TRANSP:OPAQUE
END:VEVENT
END:VCALENDAR