BEGIN:VCALENDAR
VERSION:2.0
PRODID:-//jEvents 2.0 for Joomla//EN
CALSCALE:GREGORIAN
METHOD:PUBLISH
BEGIN:VEVENT
UID:d677572ddd54446afc646ceb97fd5152
CATEGORIES:Veranstaltungen
CREATED:20240919T095446
SUMMARY:Osterferien
DESCRIPTION:
DTSTAMP:20260425T135353
DTSTART:20250412T060000
DTEND:20250421T210000
SEQUENCE:0
TRANSP:OPAQUE
END:VEVENT
END:VCALENDAR