BEGIN:VCALENDAR
VERSION:2.0
PRODID:-//jEvents 2.0 for Joomla//EN
CALSCALE:GREGORIAN
METHOD:PUBLISH
BEGIN:VEVENT
UID:815f112da98bfb7811631ebc000caa7a
CATEGORIES:Veranstaltungen
CREATED:20240919T095236
SUMMARY:Josefi - Landesfeiertag - schulfrei
DESCRIPTION:
DTSTAMP:20260425T172642
DTSTART:20250319T070000
DTEND:20250319T220000
SEQUENCE:0
TRANSP:OPAQUE
END:VEVENT
END:VCALENDAR