BEGIN:VCALENDAR
VERSION:2.0
PRODID:-//jEvents 2.0 for Joomla//EN
CALSCALE:GREGORIAN
METHOD:PUBLISH
BEGIN:VEVENT
UID:cf7119fd3952f128d35375863500d90d
CATEGORIES:Veranstaltungen
CREATED:20240919T094956
SUMMARY:Beginn der Anmeldefrist für das Schuljahr 2025/26
DESCRIPTION:
DTSTAMP:20260425T171503
DTSTART:20250207T070000
DTEND:20250228T160000
SEQUENCE:0
TRANSP:OPAQUE
END:VEVENT
END:VCALENDAR