BEGIN:VCALENDAR
VERSION:2.0
PRODID:-//jEvents 2.0 for Joomla//EN
CALSCALE:GREGORIAN
METHOD:PUBLISH
BEGIN:VEVENT
UID:392cb81f80735184868ef8411fb15812
CATEGORIES:Veranstaltungen
CREATED:20240919T094640
SUMMARY:Semesterferien
DESCRIPTION:
DTSTAMP:20260425T171144
DTSTART:20250210T070000
DTEND:20250215T220000
SEQUENCE:0
TRANSP:OPAQUE
END:VEVENT
END:VCALENDAR