BEGIN:VCALENDAR
VERSION:2.0
PRODID:-//jEvents 2.0 for Joomla//EN
CALSCALE:GREGORIAN
METHOD:PUBLISH
BEGIN:VEVENT
UID:0ad773cc6be58254a0e0c8ed17a1e2be
CATEGORIES:Veranstaltungen
CREATED:20240919T094607
SUMMARY:Tag der offenen Tür
DESCRIPTION:
DTSTAMP:20260425T120937
DTSTART:20250110T100000
DTEND:20250110T160000
SEQUENCE:0
TRANSP:OPAQUE
END:VEVENT
END:VCALENDAR