BEGIN:VCALENDAR
VERSION:2.0
PRODID:-//jEvents 2.0 for Joomla//EN
CALSCALE:GREGORIAN
METHOD:PUBLISH
BEGIN:VEVENT
UID:346ade84de5deee1e618ac1db14e4d26
CATEGORIES:Veranstaltungen
CREATED:20240919T094121
SUMMARY:BeST-Messe Innsbruck
DESCRIPTION:
DTSTAMP:20260425T171526
DTSTART:20241127T070000
DTEND:20241127T160000
SEQUENCE:0
TRANSP:OPAQUE
END:VEVENT
END:VCALENDAR