BEGIN:VCALENDAR
VERSION:2.0
PRODID:-//jEvents 2.0 for Joomla//EN
CALSCALE:GREGORIAN
METHOD:PUBLISH
BEGIN:VEVENT
UID:9e35142bde7deb002fb4261f40e49841
CATEGORIES:Veranstaltungen
CREATED:20240919T094043
SUMMARY:Messe für weiterführende Schulen in der Wirtschaftskammer Reutte
DESCRIPTION:
DTSTAMP:20260425T171316
DTSTART:20241114T170000
DTEND:20241114T200000
SEQUENCE:0
TRANSP:OPAQUE
END:VEVENT
END:VCALENDAR