BEGIN:VCALENDAR
VERSION:2.0
PRODID:-//jEvents 2.0 for Joomla//EN
CALSCALE:GREGORIAN
METHOD:PUBLISH
BEGIN:VEVENT
UID:3c1415941eaa12bedfbf20e0829c4cb0
CATEGORIES:Veranstaltungen
CREATED:20240919T093932
SUMMARY:Erste Hilfe Kurs 3wb
DESCRIPTION:
DTSTAMP:20260425T171329
DTSTART:20241108T070000
DTEND:20241108T170000
SEQUENCE:0
TRANSP:OPAQUE
END:VEVENT
END:VCALENDAR