BEGIN:VCALENDAR
VERSION:2.0
PRODID:-//jEvents 2.0 for Joomla//EN
CALSCALE:GREGORIAN
METHOD:PUBLISH
BEGIN:VEVENT
UID:7684edb55c73d7a92e67078a63e34280
CATEGORIES:Veranstaltungen
CREATED:20240919T093750
SUMMARY:Projektwoche der 4wa und 4wb
DESCRIPTION:
DTSTAMP:20260425T204337
DTSTART:20241007T060000
DTEND:20241011T150000
SEQUENCE:0
TRANSP:OPAQUE
END:VEVENT
END:VCALENDAR