BEGIN:VCALENDAR
VERSION:2.0
PRODID:-//jEvents 2.0 for Joomla//EN
CALSCALE:GREGORIAN
METHOD:PUBLISH
BEGIN:VEVENT
UID:916aad05bda80e829f60abfe8f7077da
CATEGORIES:Veranstaltungen
CREATED:20240919T093717
SUMMARY:HTL-Tage in Innsbruck
DESCRIPTION:
DTSTAMP:20260425T191118
DTSTART:20241011T060000
DTEND:20241012T150000
SEQUENCE:0
TRANSP:OPAQUE
END:VEVENT
END:VCALENDAR