BEGIN:VCALENDAR
VERSION:2.0
PRODID:-//jEvents 2.0 for Joomla//EN
CALSCALE:GREGORIAN
METHOD:PUBLISH
BEGIN:VEVENT
UID:f25fc25fbcf1ed7f3cee7871d3d1e001
CATEGORIES:Veranstaltungen
CREATED:20240919T093639
SUMMARY:Erste Hilfe Kurs 3wa
DESCRIPTION:
DTSTAMP:20260425T185318
DTSTART:20241004T060000
DTEND:20241004T160000
SEQUENCE:0
TRANSP:OPAQUE
END:VEVENT
END:VCALENDAR